Workbook

Sheet Vendas
A1: Controle de Vendas
A2: Preencha somente as células amarelas. Total, mês e resumo são calculados. A linha 5 é um exemplo – apague ou substitua. Modelo: Cardoso & Martins (cmcontadoresassociados.com.br).
A4: Data | B4: Nº pedido / NF | C4: Cliente | D4: Produto / serviço | E4: Qtd. | F4: Valor unitário | G4: Desconto | H4: Total | I4: Forma de pagamento | J4: Situação | K4: Mês
A5: 46296 | B5: 0001 | C5: Cliente exemplo Ltda | D5: Serviço exemplo | E5: 2 | F5: 150 | G5: 0 | H5: =IF(E5="","",E5*F5-G5) -> 300 | I5: PIX | J5: Recebido | K5: =IF(A5="","",MONTH(A5)&"/"&YEAR(A5)) -> 10/2026
H6: =IF(E6="","",E6*F6-G6) | K6: =IF(A6="","",MONTH(A6)&"/"&YEAR(A6))
H7: =IF(E7="","",E7*F7-G7) | K7: =IF(A7="","",MONTH(A7)&"/"&YEAR(A7))
H8: =IF(E8="","",E8*F8-G8) | K8: =IF(A8="","",MONTH(A8)&"/"&YEAR(A8))
H9: =IF(E9="","",E9*F9-G9) | K9: =IF(A9="","",MONTH(A9)&"/"&YEAR(A9))
H10: =IF(E10="","",E10*F10-G10) | K10: =IF(A10="","",MONTH(A10)&"/"&YEAR(A10))
H11: =IF(E11="","",E11*F11-G11) | K11: =IF(A11="","",MONTH(A11)&"/"&YEAR(A11))
H12: =IF(E12="","",E12*F12-G12) | K12: =IF(A12="","",MONTH(A12)&"/"&YEAR(A12))
H13: =IF(E13="","",E13*F13-G13) | K13: =IF(A13="","",MONTH(A13)&"/"&YEAR(A13))
H14: =IF(E14="","",E14*F14-G14) | K14: =IF(A14="","",MONTH(A14)&"/"&YEAR(A14))
H15: =IF(E15="","",E15*F15-G15) | K15: =IF(A15="","",MONTH(A15)&"/"&YEAR(A15))
H16: =IF(E16="","",E16*F16-G16) | K16: =IF(A16="","",MONTH(A16)&"/"&YEAR(A16))
H17: =IF(E17="","",E17*F17-G17) | K17: =IF(A17="","",MONTH(A17)&"/"&YEAR(A17))
... H504: =IF(E504="","",E504*F504-G504) | K504: =IF(A504="","",MONTH(A504)&"/"&YEAR(A504))

Sheet Resumo
A1: Resumo de Vendas
A2: Calculado automaticamente a partir da aba Vendas. Altere o ano na célula B4.
A4: Ano | B4: 2026
A6: Mês | B6: Vendas (qtd.) | C6: Faturado | D6: Recebido | E6: A receber | F6: Ticket médio
A7: Janeiro | B7: =COUNTIFS(Vendas!$K$5:$K$504,"1/"&$B$4,Vendas!$J$5:$J$504,"<>Cancelado") -> 0 | C7: =SUMIFS(Vendas!$H$5:$H$504,Vendas!$K$5:$K$504,"1/"&$B$4,Vendas!$J$5:$J$504,"<>Cancelado") -> 0 | D7: =SUMIFS(Vendas!$H$5:$H$504,Vendas!$K$5:$K$504,"1/"&$B$4,Vendas!$J$5:$J$504,"Recebido") -> 0 | E7: =SUMIFS(Vendas!$H$5:$H$504,Vendas!$K$5:$K$504,"1/"&$B$4,Vendas!$J$5:$J$504,"A receber") -> 0 | F7: =IFERROR(C7/B7,0) -> 0
A8: Fevereiro | B8: =COUNTIFS(Vendas!$K$5:$K$504,"2/"&$B$4,Vendas!$J$5:$J$504,"<>Cancelado") -> 0 | C8: =SUMIFS(Vendas!$H$5:$H$504,Vendas!$K$5:$K$504,"2/"&$B$4,Vendas!$J$5:$J$504,"<>Cancelado") -> 0 | D8: =SUMIFS(Vendas!$H$5:$H$504,Vendas!$K$5:$K$504,"2/"&$B$4,Vendas!$J$5:$J$504,"Recebido") -> 0 | E8: =SUMIFS(Vendas!$H$5:$H$504,Vendas!$K$5:$K$504,"2/"&$B$4,Vendas!$J$5:$J$504,"A receber") -> 0 | F8: =IFERROR(C8/B8,0) -> 0
A9: Março | B9: =COUNTIFS(Vendas!$K$5:$K$504,"3/"&$B$4,Vendas!$J$5:$J$504,"<>Cancelado") -> 0 | C9: =SUMIFS(Vendas!$H$5:$H$504,Vendas!$K$5:$K$504,"3/"&$B$4,Vendas!$J$5:$J$504,"<>Cancelado") -> 0 | D9: =SUMIFS(Vendas!$H$5:$H$504,Vendas!$K$5:$K$504,"3/"&$B$4,Vendas!$J$5:$J$504,"Recebido") -> 0 | E9: =SUMIFS(Vendas!$H$5:$H$504,Vendas!$K$5:$K$504,"3/"&$B$4,Vendas!$J$5:$J$504,"A receber") -> 0 | F9: =IFERROR(C9/B9,0) -> 0
A10: Abril | B10: =COUNTIFS(Vendas!$K$5:$K$504,"4/"&$B$4,Vendas!$J$5:$J$504,"<>Cancelado") -> 0 | C10: =SUMIFS(Vendas!$H$5:$H$504,Vendas!$K$5:$K$504,"4/"&$B$4,Vendas!$J$5:$J$504,"<>Cancelado") -> 0 | D10: =SUMIFS(Vendas!$H$5:$H$504,Vendas!$K$5:$K$504,"4/"&$B$4,Vendas!$J$5:$J$504,"Recebido") -> 0 | E10: =SUMIFS(Vendas!$H$5:$H$504,Vendas!$K$5:$K$504,"4/"&$B$4,Vendas!$J$5:$J$504,"A receber") -> 0 | F10: =IFERROR(C10/B10,0) -> 0
A11: Maio | B11: =COUNTIFS(Vendas!$K$5:$K$504,"5/"&$B$4,Vendas!$J$5:$J$504,"<>Cancelado") -> 0 | C11: =SUMIFS(Vendas!$H$5:$H$504,Vendas!$K$5:$K$504,"5/"&$B$4,Vendas!$J$5:$J$504,"<>Cancelado") -> 0 | D11: =SUMIFS(Vendas!$H$5:$H$504,Vendas!$K$5:$K$504,"5/"&$B$4,Vendas!$J$5:$J$504,"Recebido") -> 0 | E11: =SUMIFS(Vendas!$H$5:$H$504,Vendas!$K$5:$K$504,"5/"&$B$4,Vendas!$J$5:$J$504,"A receber") -> 0 | F11: =IFERROR(C11/B11,0) -> 0
A12: Junho | B12: =COUNTIFS(Vendas!$K$5:$K$504,"6/"&$B$4,Vendas!$J$5:$J$504,"<>Cancelado") -> 0 | C12: =SUMIFS(Vendas!$H$5:$H$504,Vendas!$K$5:$K$504,"6/"&$B$4,Vendas!$J$5:$J$504,"<>Cancelado") -> 0 | D12: =SUMIFS(Vendas!$H$5:$H$504,Vendas!$K$5:$K$504,"6/"&$B$4,Vendas!$J$5:$J$504,"Recebido") -> 0 | E12: =SUMIFS(Vendas!$H$5:$H$504,Vendas!$K$5:$K$504,"6/"&$B$4,Vendas!$J$5:$J$504,"A receber") -> 0 | F12: =IFERROR(C12/B12,0) -> 0
A13: Julho | B13: =COUNTIFS(Vendas!$K$5:$K$504,"7/"&$B$4,Vendas!$J$5:$J$504,"<>Cancelado") -> 0 | C13: =SUMIFS(Vendas!$H$5:$H$504,Vendas!$K$5:$K$504,"7/"&$B$4,Vendas!$J$5:$J$504,"<>Cancelado") -> 0 | D13: =SUMIFS(Vendas!$H$5:$H$504,Vendas!$K$5:$K$504,"7/"&$B$4,Vendas!$J$5:$J$504,"Recebido") -> 0 | E13: =SUMIFS(Vendas!$H$5:$H$504,Vendas!$K$5:$K$504,"7/"&$B$4,Vendas!$J$5:$J$504,"A receber") -> 0 | F13: =IFERROR(C13/B13,0) -> 0
A14: Agosto | B14: =COUNTIFS(Vendas!$K$5:$K$504,"8/"&$B$4,Vendas!$J$5:$J$504,"<>Cancelado") -> 0 | C14: =SUMIFS(Vendas!$H$5:$H$504,Vendas!$K$5:$K$504,"8/"&$B$4,Vendas!$J$5:$J$504,"<>Cancelado") -> 0 | D14: =SUMIFS(Vendas!$H$5:$H$504,Vendas!$K$5:$K$504,"8/"&$B$4,Vendas!$J$5:$J$504,"Recebido") -> 0 | E14: =SUMIFS(Vendas!$H$5:$H$504,Vendas!$K$5:$K$504,"8/"&$B$4,Vendas!$J$5:$J$504,"A receber") -> 0 | F14: =IFERROR(C14/B14,0) -> 0
A15: Setembro | B15: =COUNTIFS(Vendas!$K$5:$K$504,"9/"&$B$4,Vendas!$J$5:$J$504,"<>Cancelado") -> 0 | C15: =SUMIFS(Vendas!$H$5:$H$504,Vendas!$K$5:$K$504,"9/"&$B$4,Vendas!$J$5:$J$504,"<>Cancelado") -> 0 | D15: =SUMIFS(Vendas!$H$5:$H$504,Vendas!$K$5:$K$504,"9/"&$B$4,Vendas!$J$5:$J$504,"Recebido") -> 0 | E15: =SUMIFS(Vendas!$H$5:$H$504,Vendas!$K$5:$K$504,"9/"&$B$4,Vendas!$J$5:$J$504,"A receber") -> 0 | F15: =IFERROR(C15/B15,0) -> 0
A16: Outubro | B16: =COUNTIFS(Vendas!$K$5:$K$504,"10/"&$B$4,Vendas!$J$5:$J$504,"<>Cancelado") -> 1 | C16: =SUMIFS(Vendas!$H$5:$H$504,Vendas!$K$5:$K$504,"10/"&$B$4,Vendas!$J$5:$J$504,"<>Cancelado") -> 300 | D16: =SUMIFS(Vendas!$H$5:$H$504,Vendas!$K$5:$K$504,"10/"&$B$4,Vendas!$J$5:$J$504,"Recebido") -> 300 | E16: =SUMIFS(Vendas!$H$5:$H$504,Vendas!$K$5:$K$504,"10/"&$B$4,Vendas!$J$5:$J$504,"A receber") -> 0 | F16: =IFERROR(C16/B16,0) -> 300
A17: Novembro | B17: =COUNTIFS(Vendas!$K$5:$K$504,"11/"&$B$4,Vendas!$J$5:$J$504,"<>Cancelado") -> 0 | C17: =SUMIFS(Vendas!$H$5:$H$504,Vendas!$K$5:$K$504,"11/"&$B$4,Vendas!$J$5:$J$504,"<>Cancelado") -> 0 | D17: =SUMIFS(Vendas!$H$5:$H$504,Vendas!$K$5:$K$504,"11/"&$B$4,Vendas!$J$5:$J$504,"Recebido") -> 0 | E17: =SUMIFS(Vendas!$H$5:$H$504,Vendas!$K$5:$K$504,"11/"&$B$4,Vendas!$J$5:$J$504,"A receber") -> 0 | F17: =IFERROR(C17/B17,0) -> 0
A18: Dezembro | B18: =COUNTIFS(Vendas!$K$5:$K$504,"12/"&$B$4,Vendas!$J$5:$J$504,"<>Cancelado") -> 0 | C18: =SUMIFS(Vendas!$H$5:$H$504,Vendas!$K$5:$K$504,"12/"&$B$4,Vendas!$J$5:$J$504,"<>Cancelado") -> 0 | D18: =SUMIFS(Vendas!$H$5:$H$504,Vendas!$K$5:$K$504,"12/"&$B$4,Vendas!$J$5:$J$504,"Recebido") -> 0 | E18: =SUMIFS(Vendas!$H$5:$H$504,Vendas!$K$5:$K$504,"12/"&$B$4,Vendas!$J$5:$J$504,"A receber") -> 0 | F18: =IFERROR(C18/B18,0) -> 0
A19: Total do ano | B19: =SUM(B7:B18) -> 1 | C19: =SUM(C7:C18) -> 300 | D19: =SUM(D7:D18) -> 300 | E19: =SUM(E7:E18) -> 0 | F19: =IFERROR(C19/B19,0) -> 300
